BEGIN:VCALENDAR
VERSION:2.0
PRODID:-//ChamberMaster//Event Calendar 2.0//EN
METHOD:PUBLISH
X-PUBLISHED-TTL:P3D
REFRESH-INTERVAL:P3D
CALSCALE:GREGORIAN
BEGIN:VEVENT
DTSTART:20240614T190000Z
DTEND:20240614T200000Z
X-MICROSOFT-CDO-ALLDAYEVENT:FALSE
SUMMARY:Wylie Mayor's City Council Meeting Recap on Facebook
DESCRIPTION:On Friday\, June 14\, at 2 pm\, Wylie's Mayor Matthew Porter and City Manager Brent Parker recap this week's City Council meeting. Topics include Presentations & Recognitions\, Agenda Highlights\, and Upcoming Community Events. Join the conversation in the comments! This is a live event on Facebook.
X-ALT-DESC;FMTTYPE=text/html:On Friday\, June 14\, at 2 pm\,&nbsp\;<span style="color:rgb(5\, 5\, 5)\; font-family:segoe ui historic\,segoe ui\,helvetica\,arial\,sans-serif\; font-size:15px">Wylie&#39\;s Mayor Matthew Porter and City Manager Brent Parker recap this week&#39\;s City Council meeting. Topics include Presentations &amp\; Recognitions\, Agenda Highlights\, and Upcoming Community Events. Join the conversation in the comments! <a href="https://www.facebook.com/wylietexas/">This is a live event on Facebook</a>.&nbsp\;</span>
LOCATION:This is a live event on Facebook
UID:e.1873.7060
SEQUENCE:3
DTSTAMP:20260420T032349Z
URL:https://business.wyliechamber.org/events/details/wylie-mayor-s-city-council-meeting-recap-on-facebook-7060
END:VEVENT

END:VCALENDAR
