BEGIN:VCALENDAR
VERSION:2.0
PRODID:-//ChamberMaster//Event Calendar 2.0//EN
METHOD:PUBLISH
X-PUBLISHED-TTL:P3D
REFRESH-INTERVAL:P3D
CALSCALE:GREGORIAN
BEGIN:VEVENT
DTSTART:20200623T150000Z
DTEND:20200623T163000Z
X-MICROSOFT-CDO-ALLDAYEVENT:FALSE
SUMMARY:Wildlife on the Move - Animal Show
DESCRIPTION:This is a virtual summer program that will be on Facebook live and posted afterward. No real end time. Geared toward elementary school-age children.
X-ALT-DESC;FMTTYPE=text/html:This is a virtual summer program that will be on Facebook live and posted afterward. No real end time. Geared toward elementary school-age children.
LOCATION:Facebook @SmithPublicLibrary
UID:e.1873.4008
SEQUENCE:3
DTSTAMP:20260425T193427Z
URL:https://business.wyliechamber.org/events/details/wildlife-on-the-move-animal-show-4008
END:VEVENT

END:VCALENDAR
