BEGIN:VCALENDAR
VERSION:2.0
PRODID:-//ChamberMaster//Event Calendar 2.0//EN
METHOD:PUBLISH
X-PUBLISHED-TTL:P3D
REFRESH-INTERVAL:P3D
CALSCALE:GREGORIAN
BEGIN:VEVENT
DTSTART:20260311T220000Z
DTEND:20260311T224500Z
X-MICROSOFT-CDO-ALLDAYEVENT:FALSE
SUMMARY:Virgin Voyages Virtual Cruise Event with Vacation Is Easy
DESCRIPTION:Join Virgin Voyages and Vacation Is Easy for a fun and interactive virtual event where we'll dive into everything you need to know about sailing with Virgin Voyages   the award-winning\, adults-only cruise experience redefining what it means to vacation at sea.\n\nDate: March 11th\, 2026\n\nTime: 5pm Central\n\nRegistration Link: https://streamyard.com/watch/3PTeM4bSTc7a\n\nDuring this special session\, we'll cover:\n\n  What makes Virgin Voyages different (no buffets\, no kids\, no dress codes   just elevated experiences)\n\n  Incredible dining with 20+ eateries included\n\n  Award-winning entertainment and wellness experiences\n\n  Stunning Caribbean\, North America\, and Mediterranean itineraries\n\n  Live Q&A   bring your questions!\n\nEXCLUSIVE ATTENDEE BONUS\n\nGuests who attend and book a Virgin Voyages sailing will receive $50 in FREE drinks (Bar Tab credit) to use onboard on top of their in-market offers.\n\nWhether you're new to cruising or ready to try something completely different\, this is your chance to explore a fresh take on sailing   with serious perks.\n\nSpots are limited\, so be sure to register today. Enter my name (Lillian Dikovitsky) as the travel agent and VacationIsEasy@gmail.com as the agency email.\n\nContact me to Reserve Your Spot and Learn More.\n\nWe can't wait to see you there!
X-ALT-DESC;FMTTYPE=text/html:<p>Join Virgin Voyages and Vacation Is Easy for a fun and interactive virtual event where we&rsquo\;ll dive into everything you need to know about sailing with Virgin Voyages &mdash\; the award-winning\, adults-only cruise experience redefining what it means to vacation at sea.</p>\n\n<p>Date: March 11th\, 2026<br />\nTime: 5pm Central<br />\nRegistration Link: https://streamyard.com/watch/3PTeM4bSTc7a</p>\n\n<p>During this special session\, we&rsquo\;ll cover:</p>\n\n<p>&bull\; What makes Virgin Voyages different (no buffets\, no kids\, no dress codes &mdash\; just elevated experiences)<br />\n&bull\; Incredible dining with 20+ eateries included<br />\n&bull\; Award-winning entertainment and wellness experiences<br />\n&bull\; Stunning Caribbean\, North America\, and Mediterranean itineraries<br />\n&bull\; Live Q&amp\;A &mdash\; bring your questions!</p>\n\n<p><strong>EXCLUSIVE ATTENDEE BONUS</strong></p>\n\n<p>Guests who attend and book a Virgin Voyages sailing will receive $50 in FREE drinks (Bar Tab credit) to use onboard on top of their in-market offers.</p>\n\n<p>Whether you&#39\;re new to cruising or ready to try something completely different\, this is your chance to explore a fresh take on sailing &mdash\; with serious perks.</p>\n\n<p>Spots are limited\, so be sure to register today. Enter my name (Lillian Dikovitsky) as the travel agent and VacationIsEasy@gmail.com as the agency email.</p>\n\n<p>Contact me to Reserve Your Spot and Learn More.</p>\n\n<p>We can&rsquo\;t wait to see you there!</p>\n
LOCATION:
UID:e.1873.11194
SEQUENCE:3
DTSTAMP:20260425T035415Z
URL:https://business.wyliechamber.org/events/details/virgin-voyages-virtual-cruise-event-with-vacation-is-easy-11194
END:VEVENT

END:VCALENDAR
