BEGIN:VCALENDAR
VERSION:2.0
PRODID:-//ChamberMaster//Event Calendar 2.0//EN
METHOD:PUBLISH
X-PUBLISHED-TTL:P3D
REFRESH-INTERVAL:P3D
CALSCALE:GREGORIAN
BEGIN:VEVENT
DTSTART:20200311T200000Z
DTEND:20200311T210000Z
X-MICROSOFT-CDO-ALLDAYEVENT:FALSE
SUMMARY:Tween Spring Break Program - Spring Wing Fling
DESCRIPTION:Tweens in grades 4 - 6 invited to make crafts to celebrate spring. Select a seedling\, personalize a planter\, build a butterfly. Registration is required\; check the library site WylieTexas.gov/library for details.
X-ALT-DESC;FMTTYPE=text/html:Tweens in grades 4 - 6 invited to make crafts to celebrate spring. Select a seedling\, personalize a planter\, build a butterfly. Registration is required\; check the library site WylieTexas.gov/library for details.
LOCATION:Smith Public Library 300 Country Club Rd.\, Bldg. 300 Wylie\, TX 75098
UID:e.1873.3970
SEQUENCE:3
DTSTAMP:20260425T224505Z
URL:https://business.wyliechamber.org/events/details/tween-spring-break-program-spring-wing-fling-3970
END:VEVENT

END:VCALENDAR
