BEGIN:VCALENDAR
VERSION:2.0
PRODID:-//ChamberMaster//Event Calendar 2.0//EN
METHOD:PUBLISH
X-PUBLISHED-TTL:P3D
REFRESH-INTERVAL:P3D
CALSCALE:GREGORIAN
BEGIN:VEVENT
DTSTART:20200312T190000Z
DTEND:20200312T203000Z
X-MICROSOFT-CDO-ALLDAYEVENT:FALSE
SUMMARY:Teens Spring Break Program - Lego Mindstorms Workshop
DESCRIPTION:Learn the basics of engineering and coding with our Lego Mindstorms kits in this hands-on 1.5-hour workshop. Registration is required. Two time slots available\; please sign up for only one. (Times are 2 - 3:30 p.m. or 3:30 - 5 p.m.)
X-ALT-DESC;FMTTYPE=text/html:Learn the basics of engineering and coding with our Lego Mindstorms kits in this hands-on 1.5-hour workshop. Registration is required. Two time slots available\; please sign up for only one. (Times are 2 - 3:30 p.m. or 3:30 - 5 p.m.)
LOCATION:Smith Public Library 300 Country Club Rd.\, Bldg. 300 Wylie\, TX 75098
UID:e.1873.3971
SEQUENCE:3
DTSTAMP:20260425T224356Z
URL:https://business.wyliechamber.org/events/details/teens-spring-break-program-lego-mindstorms-workshop-3971
END:VEVENT

END:VCALENDAR
