BEGIN:VCALENDAR
VERSION:2.0
PRODID:-//ChamberMaster//Event Calendar 2.0//EN
METHOD:PUBLISH
X-PUBLISHED-TTL:P3D
REFRESH-INTERVAL:P3D
CALSCALE:GREGORIAN
BEGIN:VEVENT
DTSTART:20240627T160000Z
DTEND:20240627T170000Z
X-MICROSOFT-CDO-ALLDAYEVENT:FALSE
SUMMARY:Small Talk: Frost Small Business Webinar Series
DESCRIPTION:Did you know in 2023\, losses from business email compromise exceeded $2.9 billion? Knowing how to detect and prevent fraud is essential to ensuring your business remains resilient and secure. Join Frost virtually on Thursday\, June 27 for an insightful and free webinar designed to empower small businesses with strategies to combat fraud in today's digital landscape. Led by industry expert Jami Palmer\, the webinar will cover the latest trends in cyber threats\, practical tips for securing your digital assets\, and best practices for safeguarding sensitive information. Don't miss the opportunity to enhance your fraud protection measures and stay ahead in the digital age. Register now to secure your spot!
X-ALT-DESC;FMTTYPE=text/html:Did you know in 2023\, losses from business email compromise exceeded $2.9 billion? Knowing how to detect and prevent fraud is essential to ensuring your business remains resilient and secure. Join Frost virtually on Thursday\, June 27 for an insightful and free webinar designed to empower small businesses with strategies to combat fraud in today&#39\;s digital landscape. Led by industry expert Jami Palmer\, the webinar will cover the latest trends in cyber threats\, practical tips for securing your digital assets\, and best practices for safeguarding sensitive information. Don&rsquo\;t miss the opportunity to enhance your fraud protection measures and stay ahead in the digital age. Register now to secure your spot!
LOCATION:Virtual Microsoft Teams https://www.greenvelope.com/card/.public-beb5a63e51e54bbe89ef8c1c0247b98c36363337373235
UID:e.1873.7069
SEQUENCE:3
DTSTAMP:20260420T032924Z
URL:https://business.wyliechamber.org/events/details/small-talk-frost-small-business-webinar-series-7069
END:VEVENT

END:VCALENDAR
