BEGIN:VCALENDAR
VERSION:2.0
PRODID:-//ChamberMaster//Event Calendar 2.0//EN
METHOD:PUBLISH
X-PUBLISHED-TTL:P3D
REFRESH-INTERVAL:P3D
CALSCALE:GREGORIAN
BEGIN:VEVENT
DTSTART:20240824T180000Z
DTEND:20240824T220000Z
X-MICROSOFT-CDO-ALLDAYEVENT:FALSE
SUMMARY:SLIM Women's Workshop
DESCRIPTION:Welcome to SLIM- She Leads In Ministry! SLIM is a  transformative workshop designed to empower and elevate female leaders.  \n\n\n\nDive into strategies for personal growth and effective leadership.\n\nNetwork with like-minded women in ministry.\n\nLearn tools to lead with confidence and vision.
X-ALT-DESC;FMTTYPE=text/html:Welcome to SLIM- She Leads In Ministry! SLIM is a&nbsp\; transformative workshop designed to empower and elevate female leaders.&nbsp\;&nbsp\;<br />\n<br />\nDive into strategies for personal growth and effective leadership.<br />\nNetwork with like-minded women in ministry.<br />\nLearn tools to lead with confidence and vision.&nbsp\;<br />\n<br />\n<font face="calibri\, sans-serif"><span style="font-size:22px">&nbsp\;&nbsp\;</span></font>
LOCATION:Wylie Nutrition 501 W. Brown St. Suite 100 Wylie\, TX 75098
UID:e.1873.7074
SEQUENCE:3
DTSTAMP:20260423T090331Z
URL:https://business.wyliechamber.org/events/details/slim-women-s-workshop-7074
END:VEVENT

END:VCALENDAR
