BEGIN:VCALENDAR
VERSION:2.0
PRODID:-//ChamberMaster//Event Calendar 2.0//EN
METHOD:PUBLISH
X-PUBLISHED-TTL:P3D
REFRESH-INTERVAL:P3D
CALSCALE:GREGORIAN
BEGIN:VEVENT
DTSTART:20220121T180000Z
DTEND:20220121T183000Z
X-MICROSOFT-CDO-ALLDAYEVENT:FALSE
SUMMARY:Ribbon Cutting - Waxing the City
DESCRIPTION:
X-ALT-DESC;FMTTYPE=text/html:
LOCATION:3400 W FM 544\, Ste. 630 Wylie\, TX 75098
UID:e.1873.4952
SEQUENCE:3
DTSTAMP:20260425T113047Z
URL:https://business.wyliechamber.org/events/details/ribbon-cutting-waxing-the-city-4952
END:VEVENT

END:VCALENDAR
