BEGIN:VCALENDAR
VERSION:2.0
PRODID:-//ChamberMaster//Event Calendar 2.0//EN
METHOD:PUBLISH
X-PUBLISHED-TTL:P3D
REFRESH-INTERVAL:P3D
CALSCALE:GREGORIAN
BEGIN:VEVENT
DTSTART:20250717T213000Z
DTEND:20250717T220000Z
X-MICROSOFT-CDO-ALLDAYEVENT:FALSE
SUMMARY:Ribbon Cutting for Wylie Urban Farm & Market
DESCRIPTION:Join the Wylie Area Chamber of Commerce for a double ribbon cutting celebration as we recognize two amazing local businesses Wylie Urban Farm & Market and their next-door neighbors\, Texas Longhouse Meadery!\n\nAbout Wylie Urban Farm & Market\n\nWylie Urban Farm & Market is a community co-op focused on health\, sustainability\, and local connection. From farm-fresh produce and grass-fed beef to handmade goods\, a caf \, workshops\, and more\, they've created a dynamic hub for fresh food and mindful living. Their mission is to turn unused land into urban farmland and create a space where the community can thrive body\, mind\, and soul.\n\nWhy Attend\n\nSupport two passionate local businesses bringing innovation\, flavor\, and community focus to Wylie. This is your chance to explore fresh foods\, sample unique mead\, and celebrate local entrepreneurship all in one inspiring event!
X-ALT-DESC;FMTTYPE=text/html:<div class="xdj266r x11i5rnm xat24cr x1mh8g0r x1vvkbs" color:="" font-size:="" segoe="" style="margin: 0px\; overflow-wrap: break-word\; font-family: " ui="">\n<p data-end="315" data-start="165">Join the Wylie Area Chamber of Commerce for a <strong data-end="364" data-start="327">double ribbon cutting celebration</strong> as we recognize two amazing local businesses&mdash\;<a href="https://business.wyliechamber.org/list/member/wylie-urban-farm-market-4691" target="_blank"><b>Wylie Urban Farm &amp\; Market</b></a>&nbsp\;and their next-door neighbors\, <strong data-end="498" data-start="471">Texas Longhouse Meadery</strong>!</p>\n\n<h4 data-end="544" data-start="501"><strong>About&nbsp\;Wylie Urban Farm &amp\; Market</strong></h4>\n\n<p data-end="933" data-start="545">Wylie Urban Farm &amp\; Market is a community co-op focused on health\, sustainability\, and local connection. From farm-fresh produce and grass-fed beef to handmade goods\, a caf&eacute\;\, workshops\, and more\, they&rsquo\;ve created a dynamic hub for fresh food and mindful living. Their mission is to turn unused land into urban farmland and create a space where the community can thrive&mdash\;body\, mind\, and soul.</p>\n\n<h4 data-end="976" data-start="935"><strong>Why Attend</strong></h4>\n\n<p data-end="1947" data-start="1720">Support two passionate local businesses bringing innovation\, flavor\, and community focus to Wylie. This is your chance to explore fresh foods\, sample unique mead\, and celebrate local entrepreneurship&mdash\;all in one inspiring event!</p>\n\n<p data-end="315" data-start="165"><br />\n<br />\n<br />\n<br />\n<br />\n&nbsp\;</p>\n</div>\n
LOCATION:Wylie Urban Farm & Market
UID:e.1873.7725
SEQUENCE:3
DTSTAMP:20260419T173455Z
URL:https://business.wyliechamber.org/events/details/ribbon-cutting-for-wylie-urban-farm-market-7725
END:VEVENT

END:VCALENDAR
