BEGIN:VCALENDAR
VERSION:2.0
PRODID:-//ChamberMaster//Event Calendar 2.0//EN
METHOD:PUBLISH
X-PUBLISHED-TTL:P3D
REFRESH-INTERVAL:P3D
CALSCALE:GREGORIAN
BEGIN:VEVENT
DTSTART:20240808T214500Z
DTEND:20240808T221500Z
X-MICROSOFT-CDO-ALLDAYEVENT:FALSE
SUMMARY:Ribbon Cutting for Wylie Antique Machinery Society
DESCRIPTION:Join us for a Ribbon Cutting to welcome our new member\, Wylie Antique Machinery Society! This event is a great opportunity to network with new and experienced Chamber members. See you there!
X-ALT-DESC;FMTTYPE=text/html:<div class="xdj266r x11i5rnm xat24cr x1mh8g0r x1vvkbs" color:="" font-size:="" segoe="" style="margin: 0px\; overflow-wrap: break-word\; font-family: " ui="">Join us for a Ribbon Cutting to welcome our new member\, <a href="https://business.wyliechamber.org/list/member/wylie-antique-machinery-society-4586">Wylie Antique Machinery Society</a>! This event is a great opportunity to network with new and experienced Chamber members. See you there!</div>\n
LOCATION:Ribbon Cutting will be held in the parking lot next to McClure Partners.
UID:e.1873.7092
SEQUENCE:3
DTSTAMP:20260420T061453Z
URL:https://business.wyliechamber.org/events/details/ribbon-cutting-for-wylie-antique-machinery-society-7092
END:VEVENT

END:VCALENDAR
