BEGIN:VCALENDAR
VERSION:2.0
PRODID:-//ChamberMaster//Event Calendar 2.0//EN
METHOD:PUBLISH
X-PUBLISHED-TTL:P3D
REFRESH-INTERVAL:P3D
CALSCALE:GREGORIAN
BEGIN:VEVENT
DTSTART:20250609T213000Z
DTEND:20250609T220000Z
X-MICROSOFT-CDO-ALLDAYEVENT:FALSE
SUMMARY:Ribbon Cutting for Inclusive Sports & Social Program
DESCRIPTION:Join the Wylie Area Chamber of Commerce in celebrating with a ribbon cutting for Inclusive Sports & Social Skills Program (IS3P)\, a nonprofit organization dedicated to providing adaptive sports\, social skills activities\, and camps for children with special needs in Wylie and surrounding areas. \n\nThis event offers a wonderful opportunity to network with Chamber members and community supporters while learning more about IS3P's mission to create inclusive\, supportive environments for children with special needs.
X-ALT-DESC;FMTTYPE=text/html:<div class="xdj266r x11i5rnm xat24cr x1mh8g0r x1vvkbs" color:="" font-size:="" segoe="" style="margin: 0px\; overflow-wrap: break-word\; font-family: " ui="">\n<p data-end="112" data-start="0"><span class="relative -mx-px my-[-0.2rem] rounded px-px py-[0.2rem] transition-colors duration-100 ease-in-out">Join the Wylie Area Chamber of Commerce in celebrating with a&nbsp\;ribbon cutting for<strong> </strong></span><strong><a href="https://business.wyliechamber.org/list/member/indus-family-dental-4738">Inc</a><a href="https://business.wyliechamber.org/list/member/inclusive-sports-social-skills-program-4686" target="_blank">lusive Sports &amp\; Social Skills Program</a>&nbsp\;</strong><span class="relative -mx-px my-[-0.2rem] rounded px-px py-[0.2rem] transition-colors duration-100 ease-in-out"><strong>(IS3P)</strong>\, a nonprofit organization dedicated to providing adaptive sports\, social skills activities\, and camps for children with special needs in Wylie and surrounding areas.</span>&nbsp\;</p>\n\n<p data-end="448" data-start="330"><span class="relative -mx-px my-[-0.2rem] rounded px-px py-[0.2rem] transition-colors duration-100 ease-in-out">This event offers a wonderful opportunity to network with Chamber members and community supporters while learning more about IS3P&#39\;s mission to create inclusive\, supportive environments for children with special needs.</span></p>\n<br />\n<br />\n<br />\n<br />\n&nbsp\;</div>\n
LOCATION:Wylie United Methodist Church
UID:e.1873.7712
SEQUENCE:3
DTSTAMP:20260419T121112Z
URL:https://business.wyliechamber.org/events/details/ribbon-cutting-for-inclusive-sports-social-program-7712
END:VEVENT

END:VCALENDAR
