BEGIN:VCALENDAR
VERSION:2.0
PRODID:-//ChamberMaster//Event Calendar 2.0//EN
METHOD:PUBLISH
X-PUBLISHED-TTL:P3D
REFRESH-INTERVAL:P3D
CALSCALE:GREGORIAN
BEGIN:VEVENT
DTSTART:20250620T160000Z
DTEND:20250620T170000Z
X-MICROSOFT-CDO-ALLDAYEVENT:FALSE
SUMMARY:Power of One - Session 2
DESCRIPTION:In Session 2 of DECIDE Your Next Move\, we're cutting through the noise and getting crystal clear on what you really want not what's expected\, not what's "safe\," but what's true to you. ?? Because when your vision is clear\, your momentum is unstoppable. This session is your turning point. We'll: ? Unlock the first step of the DECIDE Framework ? Explore why clarity changes everything in leadership and life ? Identify the gap between where you are and where you're meant to be ? Start crafting a vision that actually excites you ?? Ready to get clear\, get aligned\, and get moving? This is your moment.
X-ALT-DESC;FMTTYPE=text/html:In Session 2 of DECIDE Your Next Move\, we&rsquo\;re cutting through the noise and getting crystal clear on what you really want&mdash\;not what&rsquo\;s expected\, not what&rsquo\;s &ldquo\;safe\,&rdquo\; but what&rsquo\;s true to you. ?? Because when your vision is clear\, your momentum is unstoppable. This session is your turning point. We&rsquo\;ll: ? Unlock the first step of the DECIDE Framework ? Explore why clarity changes everything&mdash\;in leadership and life ? Identify the gap between where you are and where you&rsquo\;re meant to be ? Start crafting a vision that actually excites you ?? Ready to get clear\, get aligned\, and get moving? This is your moment.
LOCATION:Virtual
UID:e.1873.7717
SEQUENCE:3
DTSTAMP:20260419T115200Z
URL:https://business.wyliechamber.org/events/details/power-of-one-session-2-7717
END:VEVENT

END:VCALENDAR
