BEGIN:VCALENDAR
VERSION:2.0
PRODID:-//ChamberMaster//Event Calendar 2.0//EN
METHOD:PUBLISH
X-PUBLISHED-TTL:P3D
REFRESH-INTERVAL:P3D
CALSCALE:GREGORIAN
BEGIN:VEVENT
DTSTART:20250620T160000Z
DTEND:20250620T170000Z
X-MICROSOFT-CDO-ALLDAYEVENT:FALSE
SUMMARY:POWER OF ONE: DECIDE Your Next Move Session 2
DESCRIPTION:?? DECIDE Your Next Move   Session 2: DEFINE WHAT YOU WANT\n\n?? Friday\, June 20\, 2025\n\n?? 11:00 AM CST\n\nYou're doing all the things but still not moving forward the way you want?\n\nIt might not be an effort problem. It might be a clarity problem.\n\nIn Session 2 of DECIDE Your Next Move\, we're cutting through the noise and getting laser-focused on what you really want not what's expected\, not what's "safe\," but what's true for you.\n\n?? Because when your vision is clear\, your momentum becomes unstoppable.\n\nThis session is your turning point. You'll:\n\n? Unlock the first step of the DECIDE Framework\n\n? Learn why clarity changes everything in leadership and life\n\n? Pinpoint the gap between where you are and where you're meant to be\n\n? Start building a vision that actually lights you up\n\n?? Ready to get clear\, get aligned\, and get moving? This is your moment.
X-ALT-DESC;FMTTYPE=text/html:<p>?? <strong>DECIDE Your Next Move &ndash\; Session 2: DEFINE WHAT YOU WANT</strong><br />\n?? <strong>Friday\, June 20\, 2025</strong><br />\n?? <strong>11:00 AM CST</strong></p>\n\n<p>You&rsquo\;re doing <em>all</em> the things&mdash\;but still not moving forward the way you want?<br />\nIt might not be an effort problem. It might be a <strong>clarity</strong> problem.</p>\n\n<p>In <strong>Session 2 of DECIDE Your Next Move</strong>\, we&rsquo\;re cutting through the noise and getting laser-focused on what you <em>really</em> want&mdash\;not what&rsquo\;s expected\, not what&rsquo\;s &ldquo\;safe\,&rdquo\; but what&rsquo\;s true for <em>you</em>.</p>\n\n<p>?? Because when your vision is clear\, your momentum becomes unstoppable.</p>\n\n<p>This session is your turning point. You&rsquo\;ll:<br />\n? Unlock the first step of the DECIDE Framework<br />\n? Learn why clarity changes <em>everything</em> in leadership and life<br />\n? Pinpoint the gap between where you are and where you&rsquo\;re meant to be<br />\n? Start building a vision that actually lights you up</p>\n\n<p>?? <strong>Ready to get clear\, get aligned\, and get moving? This is your moment.</strong></p>\n
LOCATION:Virtual event - Scan the QR Code and let's get you registered.
UID:e.1873.7718
SEQUENCE:3
DTSTAMP:20260419T130824Z
URL:https://business.wyliechamber.org/events/details/power-of-one-decide-your-next-move-session-2-7718
END:VEVENT

END:VCALENDAR
