BEGIN:VCALENDAR
VERSION:2.0
PRODID:-//ChamberMaster//Event Calendar 2.0//EN
METHOD:PUBLISH
X-PUBLISHED-TTL:P3D
REFRESH-INTERVAL:P3D
CALSCALE:GREGORIAN
BEGIN:VEVENT
DTSTART:20200304T180000Z
DTEND:20200304T190000Z
X-MICROSOFT-CDO-ALLDAYEVENT:FALSE
SUMMARY:March Ambassador Meeting
DESCRIPTION:Monthly chamber ambassador meeting at Bear Creek Ranch.\n\nPlease email your Jason's Deli lunch order to Rhonda by noon Tuesday\n\nRhonda@wyliechamber.org
X-ALT-DESC;FMTTYPE=text/html:Monthly chamber ambassador meeting at Bear Creek Ranch.<br />\nPlease email your Jason&#39\;s Deli lunch order to Rhonda by noon Tuesday<br />\nRhonda@wyliechamber.org
LOCATION:1045 Bear Creek Ranch\, Nevada\, TX 75173
UID:e.1873.3977
SEQUENCE:3
DTSTAMP:20260420T024139Z
URL:https://business.wyliechamber.org/events/details/march-ambassador-meeting-3977
END:VEVENT

END:VCALENDAR
