BEGIN:VCALENDAR
VERSION:2.0
PRODID:-//ChamberMaster//Event Calendar 2.0//EN
METHOD:PUBLISH
X-PUBLISHED-TTL:P3D
REFRESH-INTERVAL:P3D
CALSCALE:GREGORIAN
BEGIN:VEVENT
DTSTART:20250517T150000Z
DTEND:20250517T160000Z
X-MICROSOFT-CDO-ALLDAYEVENT:FALSE
SUMMARY:Makenna Wagoner\, Edward Jones hosts: Virtual Seminar - Financial Fitness: The Power of Budgeting *WORKSHOP*
DESCRIPTION:Join Makenna Wagoner\, Edward Jones for the 5th seminar in her 2025 Virtual Seminar Series\, The Power of Planning!\n\n \n\nIn this seminar\, we will be exploring the importance of creating and maintaining a budget\, examine the difference between wants and needs\, and set goals for personal spending\, savings\, and debt repayment.\n \n\n\n\nThe Power of Planning is a completely virtual seminar series that explores important aspects of financial planning through the different staged of life. As we age\, our stage of life changes\, and depending on what stage of life you are in your goals and financial planning needs change. In Life-Stage Centered Financial Planning\, we take a look at where you are now\, where you are headed\, and what steps you should be taking now to put yourself in the best position to live the life you want.\n\n\n\nOver the course of 2025\, we will discuss a different topic each month\, and each three months we will discuss a different stage of life. Just because you belong to a certain stage of life does not mean you should limit yourself to seminars from that stage! Each seminar has valuable information for what to expect and plan for as you enter each stage of your life.\n\nJanuary - March : Stage 1: Pre-Accumulation Period (Age 13-25)\n\nApril - June : Stage 2: Accumulation Period (Age 26-45)\n\nJuly - September : Stage 3: Pre-Retirement Period (Age 45-64)\n\nOctober - December : Stage 4: Retirement Period (Age 65+)
X-ALT-DESC;FMTTYPE=text/html:<h2>Join Makenna Wagoner\, Edward Jones&nbsp\;for the 5th seminar in her 2025 Virtual Seminar Series\,&nbsp\;<em>The Power of Planning</em>!</h2>\n\n<h2>&nbsp\;</h2>\n\n<h4><strong><span style="font-size:18px">In this seminar\, we will be exploring the importance of creating and maintaining a budget\, examine the difference between wants and needs\, and set goals for personal spending\, savings\, and debt repayment.</span></strong></h4>\n&nbsp\;\n\n<h4><br />\n<em><span style="font-size:12px">The Power of Planning</span>&nbsp\;</em><span style="color:rgb(25\, 25\, 26)\; font-size:12px">is a completely virtual seminar series that explores important aspects of financial planning through the different staged of life. As we age\, our stage of life changes\, and depending on what stage of life you are in your goals and financial planning needs change. In Life-Stage Centered Financial Planning\, we take a look at where you are now\, where you are headed\, and what steps you should be taking now to put yourself in the best position to live the life you want.</span><br />\n<br />\n<span style="color:rgb(25\, 25\, 26)\; font-size:12px">Over the course of 2025\, we will discuss a different topic each month\, and each three months we will discuss a different stage of life. Just because you belong to a certain stage of life does not mean you should limit yourself to seminars from that stage! Each seminar has valuable information for what to expect and plan for as you enter each stage of your life.</span></h4>\n\n<h4><span style="font-size:14px"><span style="color:rgb(25\, 25\, 26)"><span style="font-size:12px">January - March : Stage 1: Pre-Accumulation Period (Age 13-25)<br />\nApril - June : Stage 2: Accumulation Period (Age 26-45)<br />\nJuly - September : Stage 3: Pre-Retirement Period (Age 45-64)<br />\nOctober - December : Stage 4: Retirement Period (Age 65+)</span></span></span></h4>\n
LOCATION:Zoom
UID:e.1873.7629
SEQUENCE:3
DTSTAMP:20260423T173653Z
URL:https://business.wyliechamber.org/events/details/makenna-wagoner-edward-jones-hosts-virtual-seminar-financial-fitness-the-power-of-budgeting-workshop-7629
END:VEVENT

END:VCALENDAR
