BEGIN:VCALENDAR
VERSION:2.0
PRODID:-//ChamberMaster//Event Calendar 2.0//EN
METHOD:PUBLISH
X-PUBLISHED-TTL:P3D
REFRESH-INTERVAL:P3D
CALSCALE:GREGORIAN
BEGIN:VEVENT
DTSTART:20240621T200000Z
DTEND:20240621T230000Z
X-MICROSOFT-CDO-ALLDAYEVENT:FALSE
SUMMARY:Live LIfe with Zest A Fundraiser for the Alzheimer's Association
DESCRIPTION:
X-ALT-DESC;FMTTYPE=text/html:
LOCATION:4546 Bunker Hill Road Sachse\, Tx 75048
UID:e.1873.7068
SEQUENCE:3
DTSTAMP:20260419T202322Z
URL:https://business.wyliechamber.org/events/details/live-life-with-zest-a-fundraiser-for-the-alzheimer-s-association-7068
END:VEVENT

END:VCALENDAR
