BEGIN:VCALENDAR
VERSION:2.0
PRODID:-//ChamberMaster//Event Calendar 2.0//EN
METHOD:PUBLISH
X-PUBLISHED-TTL:P3D
REFRESH-INTERVAL:P3D
CALSCALE:GREGORIAN
BEGIN:VEVENT
DTSTART:20200303T213000Z
DTEND:20200303T223000Z
X-MICROSOFT-CDO-ALLDAYEVENT:FALSE
SUMMARY:Lego League
DESCRIPTION:Come build with the library's Lego collection on the March theme\, "Wonders of the World." For kids in grades 1 - 4\; no parents or older or younger siblings please. Registration required at Children's Desk.
X-ALT-DESC;FMTTYPE=text/html:Come build with the library&#39\;s Lego collection on the March theme\, &quot\;Wonders of the World.&quot\; For kids in grades 1 - 4\; no parents or older or younger siblings please. Registration required at Children&#39\;s Desk.
LOCATION:Smith Public Library 300 Country Club Rd.\, Bldg. 300 Wylie\, TX 75098
UID:e.1873.3962
SEQUENCE:3
DTSTAMP:20260425T224824Z
URL:https://business.wyliechamber.org/events/details/lego-league-03-03-2020-3962
END:VEVENT

END:VCALENDAR
