BEGIN:VCALENDAR
VERSION:2.0
PRODID:-//ChamberMaster//Event Calendar 2.0//EN
METHOD:PUBLISH
X-PUBLISHED-TTL:P3D
REFRESH-INTERVAL:P3D
CALSCALE:GREGORIAN
BEGIN:VEVENT
DTSTART:20250628T230000Z
DTEND:20250629T030000Z
X-MICROSOFT-CDO-ALLDAYEVENT:FALSE
SUMMARY:In-Sync Exotics Whisker Wishes Gala
DESCRIPTION:In-Sync is celebrating 25 Years!! Come join us for our Whisker Wishes Gala Sat. June 28th at 6:00 PM\, we will have appetizers\, a plated dinner\, silent & live auctions & our guest speaker will be Steve Stoler.
X-ALT-DESC;FMTTYPE=text/html:In-Sync is celebrating 25 Years!! Come join us for our Whisker Wishes Gala Sat. June 28th at 6:00 PM\, we will have appetizers\, a plated dinner\, silent &amp\; live auctions &amp\; our guest speaker will be Steve Stoler.
LOCATION:The Venue at Boyd Farms 10350 State Hwy 205\, Lavon\, TX 75166
UID:e.1873.7705
SEQUENCE:3
DTSTAMP:20260419T120739Z
URL:https://business.wyliechamber.org/events/details/in-sync-exotics-whisker-wishes-gala-06-28-2025-7705
END:VEVENT

END:VCALENDAR
