BEGIN:VCALENDAR
VERSION:2.0
PRODID:-//ChamberMaster//Event Calendar 2.0//EN
METHOD:PUBLISH
X-PUBLISHED-TTL:P3D
REFRESH-INTERVAL:P3D
CALSCALE:GREGORIAN
BEGIN:VEVENT
DTSTART:20200601T150000Z
DTEND:20200605T150000Z
X-MICROSOFT-CDO-ALLDAYEVENT:FALSE
SUMMARY:Imagine Your Story @ Home Scavenger Hunt
DESCRIPTION:In this virtual library program that will take place on Facebook @SmithPublicLibrary\, families are invited to find all of the items on the list and post pictures of their success in the comments. (No real end time\; just upload photos as you find the items!)
X-ALT-DESC;FMTTYPE=text/html:In this virtual library program that will take place on Facebook @SmithPublicLibrary\, families are invited to find all of the items on the list and post pictures of their success in the comments. (No real end time\; just upload photos as you find the items!)
LOCATION:Facebook @SmithPublicLibrary
UID:e.1873.4001
SEQUENCE:3
DTSTAMP:20260425T192952Z
URL:https://business.wyliechamber.org/events/details/imagine-your-story-home-scavenger-hunt-4001
END:VEVENT

END:VCALENDAR
