BEGIN:VCALENDAR
VERSION:2.0
PRODID:-//ChamberMaster//Event Calendar 2.0//EN
METHOD:PUBLISH
X-PUBLISHED-TTL:P3D
REFRESH-INTERVAL:P3D
CALSCALE:GREGORIAN
BEGIN:VEVENT
DTSTART:20200307T200000Z
DTEND:20200307T213000Z
X-MICROSOFT-CDO-ALLDAYEVENT:FALSE
SUMMARY:Garden Swap & Demo
DESCRIPTION:Master Gardeners will be on hand to answer questions and offer demos to get you started on the garden of your dreams. Bring seeds\, bulbs\, and cuttings from your own garden to trade if you have them\; not a prerequisite for attendance. Contact the library's Help Desk for information on what to bring\, types of seeds accepted\, and more.
X-ALT-DESC;FMTTYPE=text/html:Master Gardeners will be on hand to answer questions and offer demos to get you started on the garden of your dreams. Bring seeds\, bulbs\, and cuttings from your own garden to trade if you have them\; not a prerequisite for attendance. Contact the library&#39\;s Help Desk for information on what to bring\, types of seeds accepted\, and more.
LOCATION:Smith Public Library 300 Country Club Rd.\, Bldg. 300 Wylie\, TX 75098
UID:e.1873.3974
SEQUENCE:3
DTSTAMP:20260426T003253Z
URL:https://business.wyliechamber.org/events/details/garden-swap-demo-3974
END:VEVENT

END:VCALENDAR
