BEGIN:VCALENDAR
VERSION:2.0
PRODID:-//ChamberMaster//Event Calendar 2.0//EN
METHOD:PUBLISH
X-PUBLISHED-TTL:P3D
REFRESH-INTERVAL:P3D
CALSCALE:GREGORIAN
BEGIN:VEVENT
DTSTART:20200630T150000Z
DTEND:20200630T163000Z
X-MICROSOFT-CDO-ALLDAYEVENT:FALSE
SUMMARY:Dance Party on Facebook Live
DESCRIPTION:This is a virtual summer program that will be on Facebook live and posted afterward. No real end time. Geared toward elementary school-age children hosted by Red Door Dance Academy
X-ALT-DESC;FMTTYPE=text/html:This is a virtual summer program that will be on Facebook live and posted afterward. No real end time. Geared toward elementary school-age children hosted by&nbsp\;Red Door Dance Academy
LOCATION:Facebook @SmithPublicLibrary
UID:e.1873.4009
SEQUENCE:3
DTSTAMP:20260425T192623Z
URL:https://business.wyliechamber.org/events/details/dance-party-on-facebook-live-4009
END:VEVENT

END:VCALENDAR
