BEGIN:VCALENDAR
VERSION:2.0
PRODID:-//ChamberMaster//Event Calendar 2.0//EN
METHOD:PUBLISH
X-PUBLISHED-TTL:P3D
REFRESH-INTERVAL:P3D
CALSCALE:GREGORIAN
BEGIN:VEVENT
DTSTART:20200319T170000Z
DTEND:20200319T173000Z
X-MICROSOFT-CDO-ALLDAYEVENT:FALSE
SUMMARY:CANCELLED: Ribbon Cutting- Full Spectrum Hair Salon
DESCRIPTION:Join us for a ribbon cutting for Full Spectrum Hair Salon and help welcome them to the chamber and community.
X-ALT-DESC;FMTTYPE=text/html:Join us for a ribbon cutting for Full Spectrum Hair Salon and help welcome them to the chamber and community.
LOCATION:141 N. Murphy Rd. Murphy\, TX 75094
UID:e.1873.3969
SEQUENCE:3
DTSTAMP:20260425T225130Z
URL:https://business.wyliechamber.org/events/details/cancelled-ribbon-cutting-full-spectrum-hair-salon-3969
END:VEVENT

END:VCALENDAR
