BEGIN:VCALENDAR
VERSION:2.0
PRODID:-//ChamberMaster//Event Calendar 2.0//EN
METHOD:PUBLISH
X-PUBLISHED-TTL:P3D
REFRESH-INTERVAL:P3D
CALSCALE:GREGORIAN
BEGIN:VEVENT
DTSTART:20200318T130000Z
DTEND:20200318T140000Z
X-MICROSOFT-CDO-ALLDAYEVENT:FALSE
SUMMARY:CANCELLED: Business Card Exchange
DESCRIPTION:Update 3/13/2020\, 5 pm - Recreation Center and Library Closure\n\nIn addition to today's closure of the Senior Rec Center\, beginning Monday\, March 16\, the Recreation Center and Library will be closed through Sunday\, March 22\, out of caution for employee and citizen safety. The situation will be re-evaluated and updated as needed. Closure updates and coronavirus information can be found at www.wylietexas.gov.
X-ALT-DESC;FMTTYPE=text/html:<h5 style="margin-top:7.5pt\;margin-right:0in\;margin-bottom:7.5pt\;margin-left:\n0in"><span style="font-size:14px\;"><strong><span style="font-family:&quot\;Open Sans&quot\;\,sans-serif\;color:#555555">Update 3/13/2020\, 5 pm - Recreation Center and Library Closure</span></strong><br style="box-sizing:border-box" />\n<span style="font-family:&quot\;Open Sans&quot\;\,sans-serif\;color:#555555\;\nfont-weight:normal">In addition to today&#39\;s closure of the Senior Rec Center\, beginning Monday\, March 16\, the Recreation Center and Library will be closed through Sunday\, March 22\, out of caution for employee and citizen safety. The situation will be re-evaluated and updated as needed. Closure updates and coronavirus information can be found at&nbsp\;<a href="http://www.wylietexas.gov/" style="box-sizing:border-box\;\nfont-weight:inherit\;outline:0px" target="_blank"><span style="color:#025193">www.wylietexas.gov</span></a>.</span></span><span style="font-size:13.0pt\;font-family:&quot\;Open Sans&quot\;\,sans-serif\;color:#555555\;\nfont-weight:normal"><o:p></o:p></span></h5>\n
LOCATION:
UID:e.1873.1899
SEQUENCE:3
DTSTAMP:20260425T224947Z
URL:https://business.wyliechamber.org/events/details/cancelled-business-card-exchange-03-18-2020-1899
END:VEVENT

END:VCALENDAR
