BEGIN:VCALENDAR
VERSION:2.0
PRODID:-//ChamberMaster//Event Calendar 2.0//EN
METHOD:PUBLISH
X-PUBLISHED-TTL:P3D
REFRESH-INTERVAL:P3D
CALSCALE:GREGORIAN
BEGIN:VEVENT
DTSTART:20200313T170000Z
DTEND:20200313T180000Z
X-MICROSOFT-CDO-ALLDAYEVENT:FALSE
SUMMARY:Booked on Fridays
DESCRIPTION:Meets second Friday of the month. Copies of this month's book\, "The Escape Artist\," by Brad Meltzer\, available at the Help Desk or on Overdrive. Bring your lunch and join us for some good conversation and fun.
X-ALT-DESC;FMTTYPE=text/html:Meets second Friday of the month. Copies of this month&#39\;s book\, &quot\;The Escape Artist\,&quot\; by Brad Meltzer\, available at the Help Desk or on Overdrive. Bring your lunch and join us for some good conversation and fun.
LOCATION:Smith Public Library 300 Country Club Rd.\, Bldg. 300 Wylie\, TX 75098
UID:e.1873.3972
SEQUENCE:3
DTSTAMP:20260421T201035Z
URL:https://business.wyliechamber.org/events/details/booked-on-fridays-03-13-2020-3972
END:VEVENT

END:VCALENDAR
