BEGIN:VCALENDAR
VERSION:2.0
PRODID:-//ChamberMaster//Event Calendar 2.0//EN
METHOD:PUBLISH
X-PUBLISHED-TTL:P3D
REFRESH-INTERVAL:P3D
CALSCALE:GREGORIAN
BEGIN:VEVENT
DTSTART:20200611T190000Z
DTEND:20200611T190000Z
X-MICROSOFT-CDO-ALLDAYEVENT:FALSE
SUMMARY:Ask Gerald!
DESCRIPTION:Do you have a question only a tiger can answer? Visit the library's Kids Page to submit a question for Gerald. He gives advice on everything from what book to read next to how to look your best ... but\, he's a tiger\, so ... \n\nSubmit your questions online\, then join us at Facebook @SmithPublicLibrary on June 15 to see his answers!
X-ALT-DESC;FMTTYPE=text/html:Do you have a question only a tiger can answer? Visit the library&#39\;s Kids Page to submit a question for Gerald. He gives advice on everything from what book to read next to how to look your best ... but\, he&#39\;s a tiger\, so ...&nbsp\;<br />\n<span style="font-family:calibri\,sans-serif\;"><span style="font-size:11.0pt\;">Submit your questions online\, then join us at Facebook @SmithPublicLibrary&nbsp\;on June 15 to see his answers!</span></span>
LOCATION:Facebook @SmithPublicLibrary
UID:e.1873.4027
SEQUENCE:3
DTSTAMP:20260419T201551Z
URL:https://business.wyliechamber.org/events/details/ask-gerald-06-11-2020-4027
END:VEVENT

END:VCALENDAR
