BEGIN:VCALENDAR
VERSION:2.0
PRODID:-//ChamberMaster//Event Calendar 2.0//EN
METHOD:PUBLISH
X-PUBLISHED-TTL:P3D
REFRESH-INTERVAL:P3D
CALSCALE:GREGORIAN
BEGIN:VEVENT
DTSTART:20240627T220000Z
DTEND:20240628T000000Z
X-MICROSOFT-CDO-ALLDAYEVENT:FALSE
SUMMARY:5:01 PM | Professional Mixer at Herman Marshall Tasting Room
DESCRIPTION:This casual\, evening networking mixer provides the opportunity for professionals to build a network of local relationships to build their contacts both personally and professionally. This event is open to both Chamber members and prospective members and there is no cost to attend. Dates and locations vary.
X-ALT-DESC;FMTTYPE=text/html:This casual\, evening networking mixer provides the opportunity for professionals to build a network of local relationships to build their contacts both personally and professionally. This event is open to both Chamber members and prospective members and there is no cost to attend. Dates and locations vary.&nbsp\;
LOCATION:
UID:e.1873.6747
SEQUENCE:3
DTSTAMP:20260420T041008Z
URL:https://business.wyliechamber.org/events/details/5-01-pm-professional-mixer-at-herman-marshall-tasting-room-06-27-2024-6747
END:VEVENT

END:VCALENDAR
