BEGIN:VCALENDAR
VERSION:2.0
PRODID:-//ChamberMaster//Event Calendar 2.0//EN
METHOD:PUBLISH
X-PUBLISHED-TTL:P3D
REFRESH-INTERVAL:P3D
CALSCALE:GREGORIAN
BEGIN:VEVENT
DTSTART:20240423T163000Z
DTEND:20240423T180000Z
X-MICROSOFT-CDO-ALLDAYEVENT:FALSE
SUMMARY:2024 State of the Chamber | Annual Meeting & Luncheon
DESCRIPTION:Join the Wylie Chamber of Commerce for the annual State of the Chamber Meeting and Luncheon to hear from Board President\, Daphne Babcock and our Keynote Speaker\, Drew Myers.\n\n\n\nLearn more about Author and Coach\, Drew Myers: www.drewmyers.life/about\n\n\n\nMonthly Chamber luncheons are designed to connect members while presenting topics on key issues regarding the current business climate and trends. Lunch will be served buffet style.\n\n\n\nThank you to our Sponsor\, Methodist Richardson Medical Center.
X-ALT-DESC;FMTTYPE=text/html:<span style="font-size:14px\;"><strong>Join the Wylie Chamber of Commerce for the annual State of the Chamber Meeting and Luncheon to hear from Board President\, Daphne Babcock and our Keynote Speaker\, Drew Myers.</strong><br />\n<br />\nLearn more about Author and Coach\, Drew Myers:&nbsp\;<a href="http://www.drewmyers.life/about">www.drewmyers.life/about</a><br />\n<br />\nMonthly Chamber luncheons are designed to connect members while presenting topics on key issues regarding the current business climate and trends. Lunch will be served buffet style.<br />\n<br />\nThank you to our Sponsor\, Methodist Richardson Medical Center.</span>
LOCATION:Collin College\, Wylie Conference Center
UID:e.1873.7012
SEQUENCE:3
DTSTAMP:20260420T115113Z
URL:https://business.wyliechamber.org/events/details/2024-state-of-the-chamber-annual-meeting-luncheon-7012
END:VEVENT

END:VCALENDAR
