BEGIN:VCALENDAR
VERSION:2.0
PRODID:-//ChamberMaster//Event Calendar 2.0//EN
METHOD:PUBLISH
X-PUBLISHED-TTL:P3D
REFRESH-INTERVAL:P3D
CALSCALE:GREGORIAN
BEGIN:VEVENT
DTSTART:20200416T230000Z
DTEND:20200417T020000Z
X-MICROSOFT-CDO-ALLDAYEVENT:FALSE
SUMMARY:202004 Black Tie and Bling Community Awards Banquet
DESCRIPTION:SAVE THE DATE!\n\nMORE DETAILS TO FOLLOW
X-ALT-DESC;FMTTYPE=text/html:<div style="text-align: center\;">SAVE THE DATE!<br />\nMORE DETAILS TO FOLLOW</div>\n
LOCATION:
UID:e.1873.3954
SEQUENCE:3
DTSTAMP:20260423T033843Z
URL:https://business.wyliechamber.org/events/details/202004-black-tie-and-bling-community-awards-banquet-3954
END:VEVENT

END:VCALENDAR
